BEGIN:VCALENDAR
VERSION:2.0
PRODID:-//Vepa Colombia - ECPv6.15.16//NONSGML v1.0//EN
CALSCALE:GREGORIAN
METHOD:PUBLISH
X-WR-CALNAME:Vepa Colombia
X-ORIGINAL-URL:https://vepa.com.co
X-WR-CALDESC:Eventos para Vepa Colombia
REFRESH-INTERVAL;VALUE=DURATION:PT1H
X-Robots-Tag:noindex
X-PUBLISHED-TTL:PT1H
BEGIN:VTIMEZONE
TZID:America/New_York
BEGIN:DAYLIGHT
TZOFFSETFROM:-0500
TZOFFSETTO:-0400
TZNAME:EDT
DTSTART:20230312T070000
END:DAYLIGHT
BEGIN:STANDARD
TZOFFSETFROM:-0400
TZOFFSETTO:-0500
TZNAME:EST
DTSTART:20231105T060000
END:STANDARD
BEGIN:DAYLIGHT
TZOFFSETFROM:-0500
TZOFFSETTO:-0400
TZNAME:EDT
DTSTART:20240310T070000
END:DAYLIGHT
BEGIN:STANDARD
TZOFFSETFROM:-0400
TZOFFSETTO:-0500
TZNAME:EST
DTSTART:20241103T060000
END:STANDARD
BEGIN:DAYLIGHT
TZOFFSETFROM:-0500
TZOFFSETTO:-0400
TZNAME:EDT
DTSTART:20250309T070000
END:DAYLIGHT
BEGIN:STANDARD
TZOFFSETFROM:-0400
TZOFFSETTO:-0500
TZNAME:EST
DTSTART:20251102T060000
END:STANDARD
END:VTIMEZONE
BEGIN:VEVENT
DTSTART;TZID=America/New_York:20241018T080000
DTEND;TZID=America/New_York:20241019T190000
DTSTAMP:20260422T122350
CREATED:20241003T234417Z
LAST-MODIFIED:20241004T000225Z
UID:10000002-1729238400-1729364400@vepa.com.co
SUMMARY:VEPA SIN FRONTERAS 2024 GASTROENTEROLOGÍA Y GESTIÓN VETERINARIA
DESCRIPTION:VEPA SIN FRONTERAS 2024 GASTROENTEROLOGÍA Y GESTIÓN VETERINARIA\n18 y de octubre\nCiudad: Cúcuta Norte de Santander\nLugar: Hotel Faranda Bolívar Cúcuta\nAdquiere tu entrada en : \nHome \n\nTe esperamos en esta nueva aventura académica
URL:https://vepa.com.co/event/vepa-sin-fronteras-2024-gastroenterologia-y-gestion-veterinaria/
LOCATION:Hotel Faranda Bolívar Cúcuta\, Avenida Demetrio Mendoza\, Puente San Luis\, Cúcuta\, Norte de Santander\, Cúcuta\, Norte de Santander\, CUCUTA\, Colombia
CATEGORIES:VEPA NORTE DE SANTANDER
ATTACH;FMTTYPE=image/png:https://vepa.com.co/wp-content/uploads/2024/10/vepa-nSANTADER.png
END:VEVENT
END:VCALENDAR