BEGIN:VCALENDAR
VERSION:2.0
PRODID:-//Vepa Colombia - ECPv6.15.16//NONSGML v1.0//EN
CALSCALE:GREGORIAN
METHOD:PUBLISH
X-ORIGINAL-URL:https://vepa.com.co
X-WR-CALDESC:Eventos para Vepa Colombia
REFRESH-INTERVAL;VALUE=DURATION:PT1H
X-Robots-Tag:noindex
X-PUBLISHED-TTL:PT1H
BEGIN:VTIMEZONE
TZID:America/New_York
BEGIN:DAYLIGHT
TZOFFSETFROM:-0500
TZOFFSETTO:-0400
TZNAME:EDT
DTSTART:20250309T070000
END:DAYLIGHT
BEGIN:STANDARD
TZOFFSETFROM:-0400
TZOFFSETTO:-0500
TZNAME:EST
DTSTART:20251102T060000
END:STANDARD
BEGIN:DAYLIGHT
TZOFFSETFROM:-0500
TZOFFSETTO:-0400
TZNAME:EDT
DTSTART:20260308T070000
END:DAYLIGHT
BEGIN:STANDARD
TZOFFSETFROM:-0400
TZOFFSETTO:-0500
TZNAME:EST
DTSTART:20261101T060000
END:STANDARD
BEGIN:DAYLIGHT
TZOFFSETFROM:-0500
TZOFFSETTO:-0400
TZNAME:EDT
DTSTART:20270314T070000
END:DAYLIGHT
BEGIN:STANDARD
TZOFFSETFROM:-0400
TZOFFSETTO:-0500
TZNAME:EST
DTSTART:20271107T060000
END:STANDARD
END:VTIMEZONE
BEGIN:VEVENT
DTSTART;TZID=America/New_York:20260503T080000
DTEND;TZID=America/New_York:20260505T180000
DTSTAMP:20260419T191830
CREATED:20260305T214644Z
LAST-MODIFIED:20260305T214919Z
UID:10000028-1777795200-1778004000@vepa.com.co
SUMMARY:XII Seminario Regional VEPA Cauca 🐾
DESCRIPTION:Un espacio académico de alto nivel enfocado en el diagnóstico y tratamiento de las principales patologías cardiorrespiratorias en caninos y felinos. \n📍 Popayán\, Cauca\n📅 3\, 4 y 5 de mayo de 2026\n⏰ 8:00 a.m. – 6:00 p.m.\n📚 Modalidad presencial \n🎓 Conferencista internacional:\nDr. Pablo Alejandro Donati\nReferente en emergencias\, cuidados intensivos y cardiología veterinaria. \n🧪 Incluye taller práctico con maniobras de urgencia\, catéter venoso central y ultrasonografía POCUS. \n💰 Asociados VEPA Cauca: SIN COSTO\n(Cupos limitados) \nPrepárate para fortalecer tu criterio clínico y llevar tu práctica al siguiente nivel 🚀
URL:https://vepa.com.co/event/xii-seminario-regional-vepa-cauca-%f0%9f%90%be/
LOCATION:Popayán\, Cauca\, Colombia
CATEGORIES:VEPA CAUCA
ATTACH;FMTTYPE=image/jpeg:https://vepa.com.co/wp-content/uploads/2026/03/WhatsApp-Image-2026-03-05-at-4.03.03-PM.jpeg
END:VEVENT
END:VCALENDAR