BEGIN:VCALENDAR
VERSION:2.0
PRODID:-//Vepa Colombia - ECPv6.15.16//NONSGML v1.0//EN
CALSCALE:GREGORIAN
METHOD:PUBLISH
X-WR-CALNAME:Vepa Colombia
X-ORIGINAL-URL:https://vepa.com.co
X-WR-CALDESC:Eventos para Vepa Colombia
REFRESH-INTERVAL;VALUE=DURATION:PT1H
X-Robots-Tag:noindex
X-PUBLISHED-TTL:PT1H
BEGIN:VTIMEZONE
TZID:America/New_York
BEGIN:DAYLIGHT
TZOFFSETFROM:-0500
TZOFFSETTO:-0400
TZNAME:EDT
DTSTART:20240310T070000
END:DAYLIGHT
BEGIN:STANDARD
TZOFFSETFROM:-0400
TZOFFSETTO:-0500
TZNAME:EST
DTSTART:20241103T060000
END:STANDARD
BEGIN:DAYLIGHT
TZOFFSETFROM:-0500
TZOFFSETTO:-0400
TZNAME:EDT
DTSTART:20250309T070000
END:DAYLIGHT
BEGIN:STANDARD
TZOFFSETFROM:-0400
TZOFFSETTO:-0500
TZNAME:EST
DTSTART:20251102T060000
END:STANDARD
BEGIN:DAYLIGHT
TZOFFSETFROM:-0500
TZOFFSETTO:-0400
TZNAME:EDT
DTSTART:20260308T070000
END:DAYLIGHT
BEGIN:STANDARD
TZOFFSETFROM:-0400
TZOFFSETTO:-0500
TZNAME:EST
DTSTART:20261101T060000
END:STANDARD
BEGIN:DAYLIGHT
TZOFFSETFROM:-0500
TZOFFSETTO:-0400
TZNAME:EDT
DTSTART:20270314T070000
END:DAYLIGHT
BEGIN:STANDARD
TZOFFSETFROM:-0400
TZOFFSETTO:-0500
TZNAME:EST
DTSTART:20271107T060000
END:STANDARD
END:VTIMEZONE
BEGIN:VEVENT
DTSTART;TZID=America/New_York:20251105T080000
DTEND;TZID=America/New_York:20251107T170000
DTSTAMP:20260419T173613
CREATED:20241219T202412Z
LAST-MODIFIED:20241219T202412Z
UID:10000011-1762329600-1762534800@vepa.com.co
SUMMARY:Monotema Nefrourología 2025
DESCRIPTION:🌟 ¡Prepárate para el Monotema Nefrourología 2025! 🌟\n📅 Fecha: 5\, 6 y 7 de noviembre de 2025\n📍 Lugar: Hotel Dann Carlton \n🗣️ Ponente destacado:\nJavier Del Ángel Caraza\nMVZ\, Esp. MCPyG\, Dr en C. \nAdemás\, contaremos con 2 ponentes más de gran trayectoria en el campo. \n🔍 Más información:\n📞 +57 310 6500983 \n¡No te pierdas este evento único organizado por VEPA Valle para explorar lo último en nefrourología veterinaria! 🐾
URL:https://vepa.com.co/event/monotema-nefrourologia-2025/
LOCATION:Hotel Dann Carlton\, Cra. 2 #1-60\, COMUNA 3\, Cali\, Valle del Cauca\, Colombia
CATEGORIES:VEPA VALLE
ATTACH;FMTTYPE=image/jpeg:https://vepa.com.co/wp-content/uploads/2024/12/Imagen-de-WhatsApp-2024-12-19-a-las-12.52.54_79174940.jpg
END:VEVENT
BEGIN:VEVENT
DTSTART;TZID=America/New_York:20260312T083000
DTEND;TZID=America/New_York:20260312T180000
DTSTAMP:20260419T173613
CREATED:20260306T235341Z
LAST-MODIFIED:20260310T172832Z
UID:10000029-1773304200-1773338400@vepa.com.co
SUMMARY:WORKSHOP | IA Aplicada a la Clínica Veterinaria
DESCRIPTION:WORKSHOP | IA Aplicada a la Clínica Veterinaria \nDiagnóstico\, gestión y marketing en la práctica clínica real \nLa inteligencia artificial ya es una realidad en la clínica de pequeños animales. \nDescubre cómo aplicarla hoy para mejorar el diagnóstico\, optimizar la gestión y potenciar el marketing de tu clínica. \nUn workshop presencial\, práctico y enfocado en la toma de decisiones clínicas reales. \nConferencistas\nJeimmy K. Corredor @jeimmy.corredor\nBryan Montenegro @b.mont.ig \nFecha: 12 de marzo de 2026\nLugar: Bogotá – Colombia\nHorario: 8:30 a.m. a 6:00 p.m. (incluye almuerzo) \nLugar:\nCl. 73 #22 – 60\nBogotá – Colombia\nOficinas EuroEtika \nOrganiza: VEPA Bogotá\nCon el respaldo de: VatucIA · EuroEtika Vet Division · Fitovete · Reutopic\n@fitovete @euroetikalab @vatuc\nMás información:\n302 777 0291 \nhttps://wa.link/d0mssu \nInfo@vepabogota.com \nCupos limitados.
URL:https://vepa.com.co/event/workshop-ia-aplicada-a-la-clinica-veterinaria/
LOCATION:EuroEtika\, Cl. 73 #22 - 60\, Bogotá\, Bogotá\, Colombia
CATEGORIES:VEPA BOGOTÁ
ATTACH;FMTTYPE=image/jpeg:https://vepa.com.co/wp-content/uploads/2026/03/WhatsApp-Image-2026-03-06-at-6.46.14-PM.jpeg
ORGANIZER;CN="Vepa Bogot%C3%A1":MAILTO:Info@vepabogota.com.com
END:VEVENT
BEGIN:VEVENT
DTSTART;TZID=America/New_York:20260429T080000
DTEND;TZID=America/New_York:20260501T170000
DTSTAMP:20260419T173613
CREATED:20260417T214156Z
LAST-MODIFIED:20260417T214156Z
UID:10000031-1777449600-1777654800@vepa.com.co
SUMMARY:2° Congreso VEPA Costa Norte 2026!
DESCRIPTION:¡Nos vemos en el 2° Congreso VEPA Costa Norte 2026! 🐾✨ \nEste 29\, 30 de abril y 1 de mayo te esperamos en el Hotel Dann Carlton – Barranquilla para vivir tres días de actualización en Medicina Interna\, Cirugía y Medicina Felina\, junto a colegas apasionados por la medicina veterinaria. \nY tenemos una excelente noticia 🎉\nGracias a nuestra alianza con el Hotel ibis @ibis.budgetbarranquilla Barranquilla\, podrás hospedarte con tarifa especial desde $189.900 + IVA (habitación para 1 o 2 personas).\nDesayuno adicional por $32.000 por persona. \n📍 Ubicación estratégica en Riomar CRA 50 # 84-82\n📲 Reservas: carolina blanco 302 2397796\n📧 katherine.gonzalez@accor.com \nAprovecha esta oportunidad para capacitarte\, conectar y disfrutar de Barranquilla con beneficios exclusivos para nuestros asistentes.
URL:https://vepa.com.co/event/2-congreso-vepa-costa-norte-2026/
LOCATION:Hotel Dann carlton Barranquilla\, calle 98 No 52B-10\, Barranquilla\, Colombia
CATEGORIES:VEPA ATLANTICO,VEPA BOLIBAR,VEPA CÓRDOBA,VEPA MAGDALENA
ATTACH;FMTTYPE=image/png:https://vepa.com.co/wp-content/uploads/2026/04/01DF0BE7-5C1D-4E54-A352-9661F12F73FD.png
END:VEVENT
BEGIN:VEVENT
DTSTART;TZID=America/New_York:20260430T080000
DTEND;TZID=America/New_York:20260501T170000
DTSTAMP:20260419T173613
CREATED:20260417T212302Z
LAST-MODIFIED:20260417T212302Z
UID:10000030-1777536000-1777654800@vepa.com.co
SUMMARY:Los gatos en la clínica diaria XII
DESCRIPTION:🐱✨ ¡Atención médicos veterinarios y amantes de los felinos!\nLlega la edición XII de “Los gatos en la clínica diaria”\, un espacio de actualización con expertos internacionales 🩺📚\n👩‍⚕️ Dra. Susan Little 🇨🇦\n👨‍⚕️ Dr. Ricardo Correa 🇨🇴\n📅 30 de abril y 1 de mayo\n📍 Armenia Hotel\nUna oportunidad única para fortalecer tus conocimientos en medicina felina y brindar una mejor atención a tus pacientes 🐾💜\n🎓 Cupos limitados – ¡No te quedes por fuera!
URL:https://vepa.com.co/event/los-gatos-en-la-clinica-diaria-xii/
LOCATION:Armenia Hotel\, Avenida Bolivar 8 Norte - 67\, Armenia\, Quindío\, Armenia - Quindío\, Colombia
CATEGORIES:VEPA DEL CAFE
ATTACH;FMTTYPE=image/png:https://vepa.com.co/wp-content/uploads/2026/04/A540E8B3-8F4F-40F4-A2DF-F2835AE25C64.png
END:VEVENT
BEGIN:VEVENT
DTSTART;TZID=America/New_York:20260503T080000
DTEND;TZID=America/New_York:20260505T180000
DTSTAMP:20260419T173613
CREATED:20260305T214644Z
LAST-MODIFIED:20260305T214919Z
UID:10000028-1777795200-1778004000@vepa.com.co
SUMMARY:XII Seminario Regional VEPA Cauca 🐾
DESCRIPTION:Un espacio académico de alto nivel enfocado en el diagnóstico y tratamiento de las principales patologías cardiorrespiratorias en caninos y felinos. \n📍 Popayán\, Cauca\n📅 3\, 4 y 5 de mayo de 2026\n⏰ 8:00 a.m. – 6:00 p.m.\n📚 Modalidad presencial \n🎓 Conferencista internacional:\nDr. Pablo Alejandro Donati\nReferente en emergencias\, cuidados intensivos y cardiología veterinaria. \n🧪 Incluye taller práctico con maniobras de urgencia\, catéter venoso central y ultrasonografía POCUS. \n💰 Asociados VEPA Cauca: SIN COSTO\n(Cupos limitados) \nPrepárate para fortalecer tu criterio clínico y llevar tu práctica al siguiente nivel 🚀
URL:https://vepa.com.co/event/xii-seminario-regional-vepa-cauca-%f0%9f%90%be/
LOCATION:Popayán\, Cauca\, Colombia
CATEGORIES:VEPA CAUCA
ATTACH;FMTTYPE=image/jpeg:https://vepa.com.co/wp-content/uploads/2026/03/WhatsApp-Image-2026-03-05-at-4.03.03-PM.jpeg
END:VEVENT
BEGIN:VEVENT
DTSTART;TZID=America/New_York:20260507T080000
DTEND;TZID=America/New_York:20260508T170000
DTSTAMP:20260419T173613
CREATED:20260218T172643Z
LAST-MODIFIED:20260218T172924Z
UID:10000027-1778140800-1778259600@vepa.com.co
SUMMARY:🧪 Farmacología en la Clínica Diaria
DESCRIPTION:La 6ª Jornada Médico Veterinaria Javier Acosta presenta una actualización académica imprescindible para la práctica clínica diaria. \nUn espacio diseñado para fortalecer criterios terapéuticos\, optimizar decisiones farmacológicas y mejorar los resultados clínicos en perros y gatos. \n👨‍⚕️ Conferencista \nDr. Ricardo Correa Salgado \nProfesional invitado para compartir herramientas prácticas y fundamentos farmacológicos aplicables al ejercicio clínico veterinario actual. \n📅 Fecha \n7 y 8 de mayo de 2026 \n📍 Lugar \nHotel Cuéllars\nPasto\, Nariño – Colombia \n🏛 Organiza \nAsociación Colombiana de Médicos Veterinarios y Zootecnistas – VEPA Nariño \n🐾 Dirigido a \nMédicos veterinarios\, estudiantes de últimos semestres y profesionales del sector interesados en fortalecer su enfoque terapéutico. \n🎯 Objetivo Académico \nActualizar conceptos clave en farmacología veterinaria aplicada a la clínica diaria\, promoviendo decisiones seguras\, racionales y basadas en evidencia.
URL:https://vepa.com.co/event/%f0%9f%a7%aa-farmacologia-en-la-clinica-diaria/
LOCATION:Hotel Cuéllar’s\, Carrera 23 No. 15-50\, Pasto\, Colombia
CATEGORIES:VEPA NARIÑO
ATTACH;FMTTYPE=image/png:https://vepa.com.co/wp-content/uploads/2026/02/perfil-whats-cuadrado.png
END:VEVENT
BEGIN:VEVENT
DTSTART;TZID=America/New_York:20260603T080000
DTEND;TZID=America/New_York:20260605T170000
DTSTAMP:20260419T173613
CREATED:20260204T174053Z
LAST-MODIFIED:20260204T174132Z
UID:10000026-1780473600-1780678800@vepa.com.co
SUMMARY:CONGRESO INTERNACIONAL VEPA COLOMBIA VET TECH 2026
DESCRIPTION:El futuro no se espera.\nSe construye. \nTres días que marcarán un antes y un después en la medicina veterinaria.\nTecnología\, conocimiento y evolución. \nJunio 3\, 4 y 5\nLugar: @plazamayormed\nMedellin
URL:https://vepa.com.co/event/congreso-internacional-vepa-colombia-vet-tech-2026/
LOCATION:Centro de Convenciones Plaza Mayor\, Cl. 41 #N° 55-80\, La Candelaria\, Medellín\, La Candelaria\, Medellín\, Antioquia\, Medellín Colombia\, Colombia
CATEGORIES:VEPA COLOMBIA
ATTACH;FMTTYPE=image/png:https://vepa.com.co/wp-content/uploads/2026/02/Poster-1.png
END:VEVENT
END:VCALENDAR