BEGIN:VCALENDAR
VERSION:2.0
PRODID:-//Vepa Colombia - ECPv6.15.16//NONSGML v1.0//EN
CALSCALE:GREGORIAN
METHOD:PUBLISH
X-ORIGINAL-URL:https://vepa.com.co
X-WR-CALDESC:Eventos para Vepa Colombia
REFRESH-INTERVAL;VALUE=DURATION:PT1H
X-Robots-Tag:noindex
X-PUBLISHED-TTL:PT1H
BEGIN:VTIMEZONE
TZID:America/New_York
BEGIN:DAYLIGHT
TZOFFSETFROM:-0500
TZOFFSETTO:-0400
TZNAME:EDT
DTSTART:20240310T070000
END:DAYLIGHT
BEGIN:STANDARD
TZOFFSETFROM:-0400
TZOFFSETTO:-0500
TZNAME:EST
DTSTART:20241103T060000
END:STANDARD
BEGIN:DAYLIGHT
TZOFFSETFROM:-0500
TZOFFSETTO:-0400
TZNAME:EDT
DTSTART:20250309T070000
END:DAYLIGHT
BEGIN:STANDARD
TZOFFSETFROM:-0400
TZOFFSETTO:-0500
TZNAME:EST
DTSTART:20251102T060000
END:STANDARD
BEGIN:DAYLIGHT
TZOFFSETFROM:-0500
TZOFFSETTO:-0400
TZNAME:EDT
DTSTART:20260308T070000
END:DAYLIGHT
BEGIN:STANDARD
TZOFFSETFROM:-0400
TZOFFSETTO:-0500
TZNAME:EST
DTSTART:20261101T060000
END:STANDARD
END:VTIMEZONE
BEGIN:VEVENT
DTSTART;TZID=America/New_York:20250422T080000
DTEND;TZID=America/New_York:20251028T170000
DTSTAMP:20260419T205439
CREATED:20250326T182807Z
LAST-MODIFIED:20250326T183205Z
UID:10000020-1745308800-1761670800@vepa.com.co
SUMMARY:Diplomado Virtual en Endocrinología Canina y Felina
DESCRIPTION:Fortalece tus conocimientos y actualízate en un área clave para la práctica clínica. \nInicio: 21 de abril de 2025\n190 horas teórico-virtuales\nConferencistas nacionales e internacionales\nModalidad: 100% virtual – Plataforma Moodle Workplace \nPronto pago: $600.000 (hasta el 8 de abril)\nInscripciones abiertas en: https://diplomado.vepa.com.co \nUna formación diseñada para médicos veterinarios que buscan mejorar sus competencias con bases sólidas y actualizadas. \n#VEPAColombia #EndocrinologíaVeterinaria #DiplomadoVeterinario #CampusVEPA #EducaciónVeterinaria
URL:https://vepa.com.co/event/diplomado-virtual-en-endocrinologia-canina-y-felina/
LOCATION:campus vepa
CATEGORIES:VEPA COLOMBIA
ATTACH;FMTTYPE=image/png:https://vepa.com.co/wp-content/uploads/2025/03/Diseno-alejo-diplomado-cuadrado-2603725.png
END:VEVENT
BEGIN:VEVENT
DTSTART;TZID=America/New_York:20250430T080000
DTEND;TZID=America/New_York:20250502T170000
DTSTAMP:20260419T205439
CREATED:20250206T163452Z
LAST-MODIFIED:20250206T163452Z
UID:10000016-1746000000-1746205200@vepa.com.co
SUMMARY:🌊🐾 ¡La Costa se llena de conocimiento veterinario! 🐾🌊
DESCRIPTION:🔹 ¡Llega el Congreso VEPA Costa Norte 2025! 🔹\n📅 Abril 30\, Mayo 1 y 2\n📍 Centro de Convenciones CAJACOPI – Barranquilla\, Atlántico \n💡 Tres salas especializadas para potenciar tu carrera:\n🔵 Cirugía\n🟠 Gestión & Marketing\n🔴 Medicina de Gatos \n🎯 Aprende de los mejores\, conecta con expertos y vive una experiencia única en la comunidad veterinaria de la Costa Norte. \n📲 ¡Más info y registros!\n📞 314 594 1916 – 311 418 5554\n📧 vepacostanorte@gmail.com \n🔗 ¡No te lo pierdas! #VEPACostaNorte #Veterinaria #CongresoVet2025
URL:https://vepa.com.co/event/%f0%9f%8c%8a%f0%9f%90%be-la-costa-se-llena-de-conocimiento-veterinario-%f0%9f%90%be%f0%9f%8c%8a/
LOCATION:Centro de Convenciones CAJACOPI\, Dirección: Calle 70 Nro. 56 – 21\,\, Barranquilla\, Atlántico\, Colombia
CATEGORIES:VEPA ATLANTICO,VEPA BOLIBAR,VEPA CÓRDOBA,VEPA MAGDALENA
ATTACH;FMTTYPE=image/jpeg:https://vepa.com.co/wp-content/uploads/2025/02/476014000_9164102590344079_7111634552983650537_n.jpg
END:VEVENT
BEGIN:VEVENT
DTSTART;TZID=America/New_York:20250509T080000
DTEND;TZID=America/New_York:20250510T170000
DTSTAMP:20260419T205439
CREATED:20250206T164603Z
LAST-MODIFIED:20250206T164603Z
UID:10000017-1746777600-1746896400@vepa.com.co
SUMMARY:🐱✨ ¡Atención veterinarios y amantes de los felinos! ✨🐱
DESCRIPTION:📆 9 y 10 de mayo de 2025\n📍 Armenia\, Colombia \n🔬 ¡Vuelve el evento más esperado sobre medicina felina! 🔬\nSumérgete en Los Gatos XI\, el congreso especializado en el manejo clínico de nuestros pacientes más exigentes. \n💡 Temáticas clave\, ponentes expertos y actualización científica de alto nivel para que lleves tu práctica veterinaria al siguiente nivel. \n🎯 Organiza: VEPA del Café ☕🐾 \n📲 ¡No te quedes fuera!\n🔗 Inscripciones y más info: #VEPADelCafé #LosGatosXI #MedicinaFelina
URL:https://vepa.com.co/event/%f0%9f%90%b1%e2%9c%a8-atencion-veterinarios-y-amantes-de-los-felinos-%e2%9c%a8%f0%9f%90%b1/
CATEGORIES:VEPA DEL CAFE
ATTACH;FMTTYPE=image/jpeg:https://vepa.com.co/wp-content/uploads/2025/02/476435916_18301218001234379_4121198596831609623_n.jpg
END:VEVENT
BEGIN:VEVENT
DTSTART;TZID=America/New_York:20250515T080000
DTEND;TZID=America/New_York:20250516T190000
DTSTAMP:20260419T205439
CREATED:20250115T132645Z
LAST-MODIFIED:20250127T174949Z
UID:10000014-1747296000-1747422000@vepa.com.co
SUMMARY:I Seminario Internacional y III Seminario Nacional de Actualización en Medicina Veterinaria y Zootecnia
DESCRIPTION:📢 ¡No te pierdas este gran evento académico! 🐾 \n🌍 I Seminario Internacional y III Seminario Nacional de Actualización en Medicina Veterinaria y Zootecnia\n📆 Fecha: 15 y 16 de mayo de 2025\n📍 Lugar: Edificio Yapurá\, Universidad de la Amazonia\, Florencia\, Caquetá. \n🔬 Enfoque en Medicina de Mascotas No Convencionales\, Pequeños y Grandes Animales.\n👩‍⚕️👨‍⚕️ ¡Cupo limitado! \n📌 Inscripciones: En el Centro Veterinario Clinivet\n📞 Información:\n📱 313-458-9990\n📱 314-473-9048 \nOrganiza: VEPA Caquetá\n🌿 ¡Actualízate con los mejores en Medicina Veterinaria y Zootecnia! 🐕🐇🐐
URL:https://vepa.com.co/event/i-seminario-internacional-y-iii-seminario-nacional-de-actualizacion-en-medicina-veterinaria-y-zootecnia/
LOCATION:Edificio Yapurá Universidad de la Amazonia Florenci\, Cl. 5 #12b84\,\, Florencia\, Caquetá\, Colombia
CATEGORIES:VEPA CAQUETA
ATTACH;FMTTYPE=image/jpeg:https://vepa.com.co/wp-content/uploads/2025/01/Imagen-de-WhatsApp-2025-01-26-a-las-09.34.09_9d00581c.jpg
END:VEVENT
END:VCALENDAR