BEGIN:VCALENDAR
VERSION:2.0
PRODID:-//Vepa Colombia - ECPv6.15.16//NONSGML v1.0//EN
CALSCALE:GREGORIAN
METHOD:PUBLISH
X-WR-CALNAME:Vepa Colombia
X-ORIGINAL-URL:https://vepa.com.co
X-WR-CALDESC:Eventos para Vepa Colombia
REFRESH-INTERVAL;VALUE=DURATION:PT1H
X-Robots-Tag:noindex
X-PUBLISHED-TTL:PT1H
BEGIN:VTIMEZONE
TZID:America/New_York
BEGIN:DAYLIGHT
TZOFFSETFROM:-0500
TZOFFSETTO:-0400
TZNAME:EDT
DTSTART:20230312T070000
END:DAYLIGHT
BEGIN:STANDARD
TZOFFSETFROM:-0400
TZOFFSETTO:-0500
TZNAME:EST
DTSTART:20231105T060000
END:STANDARD
BEGIN:DAYLIGHT
TZOFFSETFROM:-0500
TZOFFSETTO:-0400
TZNAME:EDT
DTSTART:20240310T070000
END:DAYLIGHT
BEGIN:STANDARD
TZOFFSETFROM:-0400
TZOFFSETTO:-0500
TZNAME:EST
DTSTART:20241103T060000
END:STANDARD
BEGIN:DAYLIGHT
TZOFFSETFROM:-0500
TZOFFSETTO:-0400
TZNAME:EDT
DTSTART:20250309T070000
END:DAYLIGHT
BEGIN:STANDARD
TZOFFSETFROM:-0400
TZOFFSETTO:-0500
TZNAME:EST
DTSTART:20251102T060000
END:STANDARD
BEGIN:DAYLIGHT
TZOFFSETFROM:-0500
TZOFFSETTO:-0400
TZNAME:EDT
DTSTART:20260308T070000
END:DAYLIGHT
BEGIN:STANDARD
TZOFFSETFROM:-0400
TZOFFSETTO:-0500
TZNAME:EST
DTSTART:20261101T060000
END:STANDARD
END:VTIMEZONE
BEGIN:VTIMEZONE
TZID:UTC
BEGIN:STANDARD
TZOFFSETFROM:+0000
TZOFFSETTO:+0000
TZNAME:UTC
DTSTART:20230101T000000
END:STANDARD
END:VTIMEZONE
BEGIN:VEVENT
DTSTART;TZID=America/New_York:20250515T080000
DTEND;TZID=America/New_York:20250516T190000
DTSTAMP:20260420T035113
CREATED:20250115T132645Z
LAST-MODIFIED:20250127T174949Z
UID:10000014-1747296000-1747422000@vepa.com.co
SUMMARY:I Seminario Internacional y III Seminario Nacional de Actualización en Medicina Veterinaria y Zootecnia
DESCRIPTION:📢 ¡No te pierdas este gran evento académico! 🐾 \n🌍 I Seminario Internacional y III Seminario Nacional de Actualización en Medicina Veterinaria y Zootecnia\n📆 Fecha: 15 y 16 de mayo de 2025\n📍 Lugar: Edificio Yapurá\, Universidad de la Amazonia\, Florencia\, Caquetá. \n🔬 Enfoque en Medicina de Mascotas No Convencionales\, Pequeños y Grandes Animales.\n👩‍⚕️👨‍⚕️ ¡Cupo limitado! \n📌 Inscripciones: En el Centro Veterinario Clinivet\n📞 Información:\n📱 313-458-9990\n📱 314-473-9048 \nOrganiza: VEPA Caquetá\n🌿 ¡Actualízate con los mejores en Medicina Veterinaria y Zootecnia! 🐕🐇🐐
URL:https://vepa.com.co/event/i-seminario-internacional-y-iii-seminario-nacional-de-actualizacion-en-medicina-veterinaria-y-zootecnia/
LOCATION:Edificio Yapurá Universidad de la Amazonia Florenci\, Cl. 5 #12b84\,\, Florencia\, Caquetá\, Colombia
CATEGORIES:VEPA CAQUETA
ATTACH;FMTTYPE=image/jpeg:https://vepa.com.co/wp-content/uploads/2025/01/Imagen-de-WhatsApp-2025-01-26-a-las-09.34.09_9d00581c.jpg
END:VEVENT
BEGIN:VEVENT
DTSTART;TZID=America/New_York:20250509T080000
DTEND;TZID=America/New_York:20250510T170000
DTSTAMP:20260420T035113
CREATED:20250206T164603Z
LAST-MODIFIED:20250206T164603Z
UID:10000017-1746777600-1746896400@vepa.com.co
SUMMARY:🐱✨ ¡Atención veterinarios y amantes de los felinos! ✨🐱
DESCRIPTION:📆 9 y 10 de mayo de 2025\n📍 Armenia\, Colombia \n🔬 ¡Vuelve el evento más esperado sobre medicina felina! 🔬\nSumérgete en Los Gatos XI\, el congreso especializado en el manejo clínico de nuestros pacientes más exigentes. \n💡 Temáticas clave\, ponentes expertos y actualización científica de alto nivel para que lleves tu práctica veterinaria al siguiente nivel. \n🎯 Organiza: VEPA del Café ☕🐾 \n📲 ¡No te quedes fuera!\n🔗 Inscripciones y más info: #VEPADelCafé #LosGatosXI #MedicinaFelina
URL:https://vepa.com.co/event/%f0%9f%90%b1%e2%9c%a8-atencion-veterinarios-y-amantes-de-los-felinos-%e2%9c%a8%f0%9f%90%b1/
CATEGORIES:VEPA DEL CAFE
ATTACH;FMTTYPE=image/jpeg:https://vepa.com.co/wp-content/uploads/2025/02/476435916_18301218001234379_4121198596831609623_n.jpg
END:VEVENT
BEGIN:VEVENT
DTSTART;TZID=America/New_York:20250430T080000
DTEND;TZID=America/New_York:20250502T170000
DTSTAMP:20260420T035113
CREATED:20250206T163452Z
LAST-MODIFIED:20250206T163452Z
UID:10000016-1746000000-1746205200@vepa.com.co
SUMMARY:🌊🐾 ¡La Costa se llena de conocimiento veterinario! 🐾🌊
DESCRIPTION:🔹 ¡Llega el Congreso VEPA Costa Norte 2025! 🔹\n📅 Abril 30\, Mayo 1 y 2\n📍 Centro de Convenciones CAJACOPI – Barranquilla\, Atlántico \n💡 Tres salas especializadas para potenciar tu carrera:\n🔵 Cirugía\n🟠 Gestión & Marketing\n🔴 Medicina de Gatos \n🎯 Aprende de los mejores\, conecta con expertos y vive una experiencia única en la comunidad veterinaria de la Costa Norte. \n📲 ¡Más info y registros!\n📞 314 594 1916 – 311 418 5554\n📧 vepacostanorte@gmail.com \n🔗 ¡No te lo pierdas! #VEPACostaNorte #Veterinaria #CongresoVet2025
URL:https://vepa.com.co/event/%f0%9f%8c%8a%f0%9f%90%be-la-costa-se-llena-de-conocimiento-veterinario-%f0%9f%90%be%f0%9f%8c%8a/
LOCATION:Centro de Convenciones CAJACOPI\, Dirección: Calle 70 Nro. 56 – 21\,\, Barranquilla\, Atlántico\, Colombia
CATEGORIES:VEPA ATLANTICO,VEPA BOLIBAR,VEPA CÓRDOBA,VEPA MAGDALENA
ATTACH;FMTTYPE=image/jpeg:https://vepa.com.co/wp-content/uploads/2025/02/476014000_9164102590344079_7111634552983650537_n.jpg
END:VEVENT
BEGIN:VEVENT
DTSTART;TZID=America/New_York:20250424T080000
DTEND;TZID=America/New_York:20250425T170000
DTSTAMP:20260420T035113
CREATED:20250204T154026Z
LAST-MODIFIED:20250204T154026Z
UID:10000015-1745481600-1745600400@vepa.com.co
SUMMARY:Seminario BLACK GOLD
DESCRIPTION:Vepa ORO NEGRO invitamos a todos los médicos veterinarios\,estudiantes a que venga a Barrancabermeja a nuestro gran Seminario BLACK GOLD este año enfocado a le Medicina Felina en nuestra clínica diaria\,de paso para que conozca a nuestra bella ciudad de Barrancabermeja y disfruten de nuestros paisajes \,gastronomía y nuestra bella gente cálida .\nTambién tenemos convenio con el Hotel Bachue que siempre nos apoya con nuestro evento habrá descuento para los colegas de afuera para su alojamiento
URL:https://vepa.com.co/event/seminario-black-gold/
LOCATION:Club Infantas – Salon Cusiana\, CL 67 18-79 PARNASO BARRANCABERMEJA\, Barrancabermeja\, Colombia
CATEGORIES:VEPA ORO NEGRO
ATTACH;FMTTYPE=image/png:https://vepa.com.co/wp-content/uploads/2025/02/Vepa-Banner.png
END:VEVENT
BEGIN:VEVENT
DTSTART;TZID=America/New_York:20250410T080000
DTEND;TZID=America/New_York:20250410T180000
DTSTAMP:20260420T035113
CREATED:20250317T205348Z
LAST-MODIFIED:20250317T205348Z
UID:10000019-1744272000-1744308000@vepa.com.co
SUMMARY:MICROSCOPÍA Y SUS APLICACIONES- Sácale el jugo a tu microscopio en la clínica diaria🔬
DESCRIPTION:Desde VEPA CAPITULO BOGOTÁ Y CUNDINAMARCA lanzamos nuestro taller básico:\nMICROSCOPÍA Y SUS APLICACIONES- Sácale el jugo a tu microscopio en la clínica diaria\n\nEste taller está diseñado para que perfecciones tus habilidades y adquieras técnicas esenciales\, agilizando tu diagnóstico y siendo más eficiente instaurando el tratamiento adecuado.\n\n Aprende de expertos\, sumergiéndote en prácticas de vanguardia.\n Transforma tu experiencia profesional con el correcto uso del microscopio.\n\n¡No esperes más\, inscríbete hoy y sé parte de la transformación de los MV y MVZ en diagnostico rápido y completo desde el momento que inicies tu consulta médica veterinaria!\n\nCupos limitados\n\n ¡Asegura tu lugar y da el siguiente paso en tu carrera!\n\n$350.000 MV – MVZ\n$200.000 miembros VEPA\n\nCuenta de Ahorro 004400076388\nBanco Davivienda\n\nEnviar soporte de consignación al 3027770291
URL:https://vepa.com.co/event/microscopia-y-sus-aplicaciones-sacale-el-jugo-a-tu-microscopio-en-la-clinica-diaria%f0%9f%94%ac/
LOCATION:Edificio country\, Carrea 15 # 84 A -24\, BOGOTÁ\, Colombia
CATEGORIES:VEPA BOGOTÁ
ATTACH;FMTTYPE=image/jpeg:https://vepa.com.co/wp-content/uploads/2025/03/TALLER-MICROSCOPIA.jpg
END:VEVENT
BEGIN:VEVENT
DTSTART;TZID=America/New_York:20250320T080000
DTEND;TZID=America/New_York:20250321T200000
DTSTAMP:20260420T035113
CREATED:20241219T203039Z
LAST-MODIFIED:20250127T175017Z
UID:10000013-1742457600-1742587200@vepa.com.co
SUMMARY:❤️🐾 XIV Seminario Extremo
DESCRIPTION:❤️🐾 XIV Seminario Extremo\n📅 20 y 21 de marzo\n📍 San Gil\, Santander\nTemáticas principales:\n🔹 Cardiología\n🔹 Finanzas \nOrganizado por VEPA Santander\, este evento es una oportunidad única para actualizarte en dos áreas clave de la medicina veterinaria. \n🌟 ¡No te lo pierdas!
URL:https://vepa.com.co/event/%e2%9d%a4%ef%b8%8f%f0%9f%90%be-xiv-seminario-extremo/
LOCATION:San Gil\, Santander
CATEGORIES:VEPA SANTANDER
ATTACH;FMTTYPE=image/jpeg:https://vepa.com.co/wp-content/uploads/2024/12/Imagen-de-WhatsApp-2025-01-26-a-las-08.56.42_7e6d54a3.jpg
END:VEVENT
BEGIN:VEVENT
DTSTART;TZID=America/New_York:20241217T193000
DTEND;TZID=America/New_York:20241217T220000
DTSTAMP:20260420T035113
CREATED:20241212T171629Z
LAST-MODIFIED:20241212T171629Z
UID:10000010-1734463800-1734472800@vepa.com.co
SUMMARY:Alteraciones morfométricas del sistema de conducción cardíaca en caninos \, incluyendo infartos y otras variaciones morfológicas.
DESCRIPTION:📢 ¡Bienvenidos a VEPA EDUCA! \nEn este YouTube Live abordamos un tema de gran relevancia para los Médicos Veterinarios:\n🔬 Alteraciones morfométricas del sistema de conducción cardíaca en caninos \, incluyendo infartos y otras variaciones morfológicas. \nIngresa a este link: https://www.youtube.com/live/2D1K76XvjEQ?si=8ICaiVuE2RyInNIz \n🗓 Fecha de transmisión: 17 de diciembre\n🕢 Hora: 7:30 PM \n🎙 Dirige:\nDr. Fabián Alejandro Gómez\nMV. VEPA Norte de Santander \nEste espacio está diseñado para compartir conocimiento\, resolver inquietudes y fortalecer nuestra práctica profesional. ¡No te pierdas esta oportunidad única de aprendizaje! \n💡 Suscríbete a nuestro canal y activa la campana para recibir notificaciones de futuros eventos y contenidos educativos. \n👉 Visita nuestra web : vepa.com.co \n🐾 VEPA EDUCA – Creciendo juntos por la medicina veterinaria
URL:https://vepa.com.co/event/alteraciones-morfometricas-del-sistema-de-conduccion-cardiaca-en-caninos-incluyendo-infartos-y-otras-variaciones-morfologicas/
CATEGORIES:VEPA COLOMBIA
ATTACH;FMTTYPE=image/jpeg:https://vepa.com.co/wp-content/uploads/2024/12/Imagen-de-WhatsApp-2024-12-12-a-las-12.05.50_76b3485c.jpg
LOCATION:
END:VEVENT
BEGIN:VEVENT
DTSTART;TZID=America/New_York:20241128T080000
DTEND;TZID=America/New_York:20241130T190000
DTSTAMP:20260420T035113
CREATED:20241031T215457Z
LAST-MODIFIED:20241127T213713Z
UID:10000008-1732780800-1732993200@vepa.com.co
SUMMARY:5° Seminario Sinuano en Montería
DESCRIPTION:💡 Este evento único abordará temas de anestesia\, analgesia y odontología veterinaria en la práctica diaria. 🐾 \n🗓 Fechas: 28\, 29 y 30 de noviembre de 2024\n📍 Lugar: Montería \n🎓 Inversión: \n\nEstudiantes: $200\,000\nProfesionales: $500\,000\n\nConferencistas destacados: ✨ Dra. Silvia Reyes (Colombia) – Médica veterinaria y zootecnista\, especialista en odontología veterinaria. ✨ Dr. Javier Brinkyer (Argentina) – Especialista en algiología veterinaria y cofundador de SIAVET \n¡Inscríbete ahora y asegura tu lugar! Haz tu pago a la cuenta de Davivienda en nombre de VEPA Córdoba. Más información en el link de inscripción 👇 \n🔗 Link de inscripción \n📞 Contacto: 311 711 3992
URL:https://vepa.com.co/event/5-seminario-sinuano-en-monteria/
LOCATION:Auditorio Universidad Cooperativa De Colombia campus Montería\, Cl. 52 #6-79\,\, Montería\, Córdoba\, Colombia
CATEGORIES:VEPA CÓRDOBA
ATTACH;FMTTYPE=image/jpeg:https://vepa.com.co/wp-content/uploads/2024/10/Imagen-de-WhatsApp-2024-10-31-a-las-14.57.17_0cd35076.jpg
END:VEVENT
BEGIN:VEVENT
DTSTART;TZID=America/New_York:20241125T190000
DTEND;TZID=America/New_York:20241125T213000
DTSTAMP:20260420T035113
CREATED:20241114T221923Z
LAST-MODIFIED:20241115T151557Z
UID:10000009-1732561200-1732570200@vepa.com.co
SUMMARY:Fluidoterapia en paciente renal
DESCRIPTION:📣 ¡Atención a todos los veterinarios y estudiantes de medicina veterinaria! 📣\n¿Sabías que la fluidoterapia es clave en el tratamiento de pacientes renales? La hidratación y el balance electrolítico pueden marcar una gran diferencia en la recuperación y bienestar de nuestros amigos peludos 🐾. \nÚnete a John Jairo Báez Serrano\, médico veterinario experto en nefrourología y miembro de la Sociedad Colombiana de Nefrourología\, para aprender todo sobre el manejo de fluidoterapia en pacientes con enfermedad renal. ¡No te lo pierdas! \n📅 Lunes 25 de noviembre\n🕖 7 PM\n🔴 En vivo por YouTube \n¡Conéctate y profundiza en el tratamiento especializado para casos renales! 💧🐶 #FluidoterapiaRenal #Veterinaria #JohnJairoBaez
URL:https://vepa.com.co/event/fluidoterapia-en-paciente-renal/
CATEGORIES:VEPA COLOMBIA
ATTACH;FMTTYPE=image/png:https://vepa.com.co/wp-content/uploads/2024/11/Fluidoterapia-en-paciente-Renal-1.png
LOCATION:
END:VEVENT
BEGIN:VEVENT
DTSTART;TZID=America/New_York:20241113T080000
DTEND;TZID=America/New_York:20241114T170000
DTSTAMP:20260420T035113
CREATED:20241029T154153Z
LAST-MODIFIED:20241029T154153Z
UID:10000007-1731484800-1731603600@vepa.com.co
SUMMARY:Actualización en Medicina Interna Felina
DESCRIPTION:¡Prepárate para el evento de Actualización en Medicina Interna Felina en Pasto\, Nariño! 🐾✨ \n🗓 Fecha: 13 y 14 de noviembre\n📍 Lugar: Hotel Morasurco\n👨‍🏫 Conferencistas: \n\nAlejandro Paludi – Argentina\nYinet Liliana Sánchez – Colombia\n\nOrganizado por VEPA Nariño\, este evento es una gran oportunidad para actualizar tus conocimientos en medicina felina junto a expertos de talla internacional 🐱💙 \n📲 Para más información\, contáctanos al 315 701 5785 o escribe a narinovepa2@gmail.com. \n#MedicinaFelina #CapacitaciónVeterinaria #ActualizaciónFelina #VepaNariño #ConferenciasFelina
URL:https://vepa.com.co/event/actualizacion-en-medicina-interna-felina/
LOCATION:Hotel Morasurco\, Esquina\, Calle 20 Carrera 40\, Pasto\, Nariño\, Pasto\, Nariño\, Colombia
CATEGORIES:VEPA NARIÑO
ATTACH;FMTTYPE=image/jpeg:https://vepa.com.co/wp-content/uploads/2024/10/Imagen-de-WhatsApp-2024-10-29-a-las-10.28.35_5c10845b.jpg
END:VEVENT
BEGIN:VEVENT
DTSTART;TZID=America/New_York:20241107T080000
DTEND;TZID=America/New_York:20241108T190000
DTSTAMP:20260420T035113
CREATED:20241004T155137Z
LAST-MODIFIED:20241004T155137Z
UID:10000003-1730966400-1731092400@vepa.com.co
SUMMARY:Los gatos en la clínica diaria X
DESCRIPTION:Purr-fectamente educativo: El congreso veterinario que tus pacientes felinos merecen\n\n\n\nObjetivos\n\n\n\n\n\nFomentar el intercambio de conocimientos y experiencias entre profesionales de la veterinaria enfocados en el cuidado de los felinos.\nActualizar a los participantes sobre las últimas investigaciones\, avances y técnicas en medicina felina.\nPromover la conciencia sobre el bienestar y la salud integral de los gatos entre los médico veterinarios en la clínica diaria.\nOfrecer talleres prácticos para mejorar las habilidades clínicas y de diagnóstico en medicina felina.\nEstablecer redes de colaboración entre veterinarios especializados en felinos para mejorar la atención y tratamiento de estos paciente
URL:https://vepa.com.co/event/los-gatos-en-la-clinica-diaria-x/
LOCATION:Armenia Hotel\, Avenida Bolivar 8 Norte - 67\, Armenia\, Quindío\, Armenia - Quindío\, Colombia
CATEGORIES:VEPA DEL CAFE
ATTACH;FMTTYPE=image/png:https://vepa.com.co/wp-content/uploads/2024/10/Noviembre-7-y-8-de-2024-post.png
END:VEVENT
BEGIN:VEVENT
DTSTART;TZID=America/New_York:20241031T080000
DTEND;TZID=America/New_York:20241101T170000
DTSTAMP:20260420T035113
CREATED:20241023T224729Z
LAST-MODIFIED:20241023T224729Z
UID:10000004-1730361600-1730480400@vepa.com.co
SUMMARY:Jornadas académicas Vepa Caribe 2024
DESCRIPTION:Jornadas académicas Vepa Caribe 2024\nUrgencias Veterinarias\nFecha: 31 de octubre y 1 de noviembre de 2024\nLugar: Hotel Barranquilla plaza\nBarranquilla – Colombia\nInformes: 3012378006 – 3145941916
URL:https://vepa.com.co/event/jornadas-academicas-vepa-caribe-2024/
LOCATION:Hotel barranquilla plaza\, Cra. 51B #79-246\, Nte. Centro Historico\,\, Barranquilla\, Atlántico\, Barranquilla\, Atlántico\, Colombia
CATEGORIES:VEPA ATLANTICO
ATTACH;FMTTYPE=image/jpeg:https://vepa.com.co/wp-content/uploads/2024/10/Imagen-de-WhatsApp-2024-10-23-a-las-16.55.26_178f1ed1.jpg
END:VEVENT
BEGIN:VEVENT
DTSTART;TZID=America/New_York:20241028T193000
DTEND;TZID=America/New_York:20241028T213000
DTSTAMP:20260420T035113
CREATED:20241024T233313Z
LAST-MODIFIED:20241024T233740Z
UID:10000006-1730143800-1730151000@vepa.com.co
SUMMARY:🌟 ¡No te pierdas nuestro próximo LIVE de #VepaEduca! 🌟
DESCRIPTION:🌟 ¡No te pierdas nuestro próximo LIVE de #VepaEduca! 🌟 \nEste 28 de octubre a las 7:30 PM nos acompaña el Dr. José Luis Díaz Pantoja de VEPA Nariño para hablar sobre el “Uso racional de los rayos X en la clínica diaria” 🩻. Aprende a optimizar esta herramienta diagnóstica en tu práctica veterinaria diaria. \n🔴 Transmisión en vivo por YouTube\, VEPA Colombia. ¡Conéctate y amplía tus conocimientos junto a nosotros! \n📅 Fecha: 28 de octubre\n🕢 Hora: 7:30 PM\n💻 Tema: Uso racional de los rayos X en la clínica diaria\n🎥 Streaming en vivo: YouTube\n📍 Invita: VEPA Colombia \n🔗 ¡No te lo pierdas en vepa.com.co! \n#VepaColombia #LiveVepa #Veterinaria #EducaciónContinua #RayosX #VEPAEduca
URL:https://vepa.com.co/event/%f0%9f%8c%9f-no-te-pierdas-nuestro-proximo-live-de-vepaeduca-%f0%9f%8c%9f/
CATEGORIES:VEPA COLOMBIA
ATTACH;FMTTYPE=image/jpeg:https://vepa.com.co/wp-content/uploads/2024/10/Imagen-de-WhatsApp-2024-10-24-a-las-18.21.40_a903ec36.jpg
LOCATION:
END:VEVENT
BEGIN:VEVENT
DTSTART;TZID=America/New_York:20241025T080000
DTEND;TZID=America/New_York:20241026T170000
DTSTAMP:20260420T035113
CREATED:20241024T153759Z
LAST-MODIFIED:20241024T234141Z
UID:10000005-1729843200-1729962000@vepa.com.co
SUMMARY:1er Seminario Teórico-Práctico de Urgencias y Emergencias en Caninos y Felinos
DESCRIPTION:🆘 ¡No te pierdas el 1er Seminario Teórico-Práctico de Urgencias y Emergencias en Caninos y Felinos! 🐾 \n📅 Fecha: 25 y 26 de octubre de 2024\n📍 Lugar: Auditorio Universidad CORHUILA\, Neiva – Huila\n👨‍🏫 Conferencistas: \n\nDra. Carolina Herrera – Uruguay\nDr. Jorge Forero – Colombia\n\n🔹 Jornada Teórica\nProfesionales: $200\,000\nSocios VEPA y Estudiantes: $150\,000 \n🔹 Taller Práctico\n(Acceso exclusivo con inscripción al seminario)\nValor: $300\,000 \n💡 Organizado por VEPA Huila\, ¡es tu oportunidad para aprender de expertos y mejorar tus habilidades en situaciones de emergencia veterinaria! \nPatrocinadores: Virbac\, KyoVet\, Sanfer\, y muchos más. \n👉 Para más información e inscripciones:\n📞 320 446 9513\n✉️ huila@vepa.com.co
URL:https://vepa.com.co/event/er-seminario-teorico-practico-de-urgencias-y-emergencias-en-caninos-y-felinos/
LOCATION:Auditorio Universidad CORHUILA\, Cl. 21 #6-01\,\, Neiva\, Huila\, Neiva\, Huila\, Colombia
CATEGORIES:VEPA HUILA
ATTACH;FMTTYPE=image/jpeg:https://vepa.com.co/wp-content/uploads/2024/10/Imagen-de-WhatsApp-2024-10-24-a-las-09.09.58_e5964f36.jpg
END:VEVENT
BEGIN:VEVENT
DTSTART;TZID=America/New_York:20241018T080000
DTEND;TZID=America/New_York:20241019T190000
DTSTAMP:20260420T035113
CREATED:20241003T234417Z
LAST-MODIFIED:20241004T000225Z
UID:10000002-1729238400-1729364400@vepa.com.co
SUMMARY:VEPA SIN FRONTERAS 2024 GASTROENTEROLOGÍA Y GESTIÓN VETERINARIA
DESCRIPTION:VEPA SIN FRONTERAS 2024 GASTROENTEROLOGÍA Y GESTIÓN VETERINARIA\n18 y de octubre\nCiudad: Cúcuta Norte de Santander\nLugar: Hotel Faranda Bolívar Cúcuta\nAdquiere tu entrada en : \nHome \n\nTe esperamos en esta nueva aventura académica
URL:https://vepa.com.co/event/vepa-sin-fronteras-2024-gastroenterologia-y-gestion-veterinaria/
LOCATION:Hotel Faranda Bolívar Cúcuta\, Avenida Demetrio Mendoza\, Puente San Luis\, Cúcuta\, Norte de Santander\, Cúcuta\, Norte de Santander\, CUCUTA\, Colombia
CATEGORIES:VEPA NORTE DE SANTANDER
ATTACH;FMTTYPE=image/png:https://vepa.com.co/wp-content/uploads/2024/10/vepa-nSANTADER.png
END:VEVENT
BEGIN:VEVENT
DTSTART;TZID=UTC:20241015T080000
DTEND;TZID=UTC:20241018T200000
DTSTAMP:20260420T035113
CREATED:20241004T042138Z
LAST-MODIFIED:20241003T233718Z
UID:10000001-1728979200-1729281600@vepa.com.co
SUMMARY:Vepa Llanos Paraíso Académico 2024
DESCRIPTION:🎉 ¡Prepárate para el Congreso Vepa Llanos Paraíso Académico 2024! 🐾\nEste año\, nos enfocamos en el tema “Abordando la analgesia en la clínica diaria”\, con un grupo excepcional de conferencistas que compartirán su experiencia y conocimiento. \nMario Marczuk Dyurich\nMarcelo Zysma\nDaniel Uribe\nRicardo Andrés Correa\nLaura Talero\nLuis Alfonso Lesmes\nJorge Forero \n🌟 ¡No te pierdas las charlas de nuestros expertos! 🌟\n📅 Fecha Pre-congreso 15 de octubre 2024\n📅 Fecha Congreso 16\,17 y 18 de octubre 2024\n📍 Lugar: Hotel del Llano | Villavicencio\, Meta
URL:https://vepa.com.co/event/vepa-llanos-paraiso-academico-2024/
LOCATION:Hotel del Llano\, Villavicencio\, Meta\, Colombia
CATEGORIES:VEPA LLANOS
ATTACH;FMTTYPE=image/png:https://vepa.com.co/wp-content/uploads/2024/10/vepa-llanos.png
END:VEVENT
END:VCALENDAR