BEGIN:VCALENDAR
VERSION:2.0
PRODID:-//Vepa Colombia - ECPv6.15.16//NONSGML v1.0//EN
CALSCALE:GREGORIAN
METHOD:PUBLISH
X-WR-CALNAME:Vepa Colombia
X-ORIGINAL-URL:https://vepa.com.co
X-WR-CALDESC:Eventos para Vepa Colombia
REFRESH-INTERVAL;VALUE=DURATION:PT1H
X-Robots-Tag:noindex
X-PUBLISHED-TTL:PT1H
BEGIN:VTIMEZONE
TZID:America/New_York
BEGIN:DAYLIGHT
TZOFFSETFROM:-0500
TZOFFSETTO:-0400
TZNAME:EDT
DTSTART:20250309T070000
END:DAYLIGHT
BEGIN:STANDARD
TZOFFSETFROM:-0400
TZOFFSETTO:-0500
TZNAME:EST
DTSTART:20251102T060000
END:STANDARD
BEGIN:DAYLIGHT
TZOFFSETFROM:-0500
TZOFFSETTO:-0400
TZNAME:EDT
DTSTART:20260308T070000
END:DAYLIGHT
BEGIN:STANDARD
TZOFFSETFROM:-0400
TZOFFSETTO:-0500
TZNAME:EST
DTSTART:20261101T060000
END:STANDARD
BEGIN:DAYLIGHT
TZOFFSETFROM:-0500
TZOFFSETTO:-0400
TZNAME:EDT
DTSTART:20270314T070000
END:DAYLIGHT
BEGIN:STANDARD
TZOFFSETFROM:-0400
TZOFFSETTO:-0500
TZNAME:EST
DTSTART:20271107T060000
END:STANDARD
END:VTIMEZONE
BEGIN:VEVENT
DTSTART;TZID=America/New_York:20260312T083000
DTEND;TZID=America/New_York:20260312T180000
DTSTAMP:20260419T160936
CREATED:20260306T235341Z
LAST-MODIFIED:20260310T172832Z
UID:10000029-1773304200-1773338400@vepa.com.co
SUMMARY:WORKSHOP | IA Aplicada a la Clínica Veterinaria
DESCRIPTION:WORKSHOP | IA Aplicada a la Clínica Veterinaria \nDiagnóstico\, gestión y marketing en la práctica clínica real \nLa inteligencia artificial ya es una realidad en la clínica de pequeños animales. \nDescubre cómo aplicarla hoy para mejorar el diagnóstico\, optimizar la gestión y potenciar el marketing de tu clínica. \nUn workshop presencial\, práctico y enfocado en la toma de decisiones clínicas reales. \nConferencistas\nJeimmy K. Corredor @jeimmy.corredor\nBryan Montenegro @b.mont.ig \nFecha: 12 de marzo de 2026\nLugar: Bogotá – Colombia\nHorario: 8:30 a.m. a 6:00 p.m. (incluye almuerzo) \nLugar:\nCl. 73 #22 – 60\nBogotá – Colombia\nOficinas EuroEtika \nOrganiza: VEPA Bogotá\nCon el respaldo de: VatucIA · EuroEtika Vet Division · Fitovete · Reutopic\n@fitovete @euroetikalab @vatuc\nMás información:\n302 777 0291 \nhttps://wa.link/d0mssu \nInfo@vepabogota.com \nCupos limitados.
URL:https://vepa.com.co/event/workshop-ia-aplicada-a-la-clinica-veterinaria/
LOCATION:EuroEtika\, Cl. 73 #22 - 60\, Bogotá\, Bogotá\, Colombia
CATEGORIES:VEPA BOGOTÁ
ATTACH;FMTTYPE=image/jpeg:https://vepa.com.co/wp-content/uploads/2026/03/WhatsApp-Image-2026-03-06-at-6.46.14-PM.jpeg
ORGANIZER;CN="Vepa Bogot%C3%A1":MAILTO:Info@vepabogota.com.com
END:VEVENT
END:VCALENDAR